BEGIN:VCALENDAR
VERSION:2.0
PRODID:-//Verein Neusser Angelfischer 1922/51 e.V. - ECPv6.15.11//NONSGML v1.0//EN
CALSCALE:GREGORIAN
METHOD:PUBLISH
X-WR-CALNAME:Verein Neusser Angelfischer 1922/51 e.V.
X-ORIGINAL-URL:https://neusser-angelfischer.de
X-WR-CALDESC:Veranstaltungen für Verein Neusser Angelfischer 1922/51 e.V.
REFRESH-INTERVAL;VALUE=DURATION:PT1H
X-Robots-Tag:noindex
X-PUBLISHED-TTL:PT1H
BEGIN:VTIMEZONE
TZID:Europe/Berlin
BEGIN:DAYLIGHT
TZOFFSETFROM:+0100
TZOFFSETTO:+0200
TZNAME:CEST
DTSTART:20230326T010000
END:DAYLIGHT
BEGIN:STANDARD
TZOFFSETFROM:+0200
TZOFFSETTO:+0100
TZNAME:CET
DTSTART:20231029T010000
END:STANDARD
BEGIN:DAYLIGHT
TZOFFSETFROM:+0100
TZOFFSETTO:+0200
TZNAME:CEST
DTSTART:20240331T010000
END:DAYLIGHT
BEGIN:STANDARD
TZOFFSETFROM:+0200
TZOFFSETTO:+0100
TZNAME:CET
DTSTART:20241027T010000
END:STANDARD
BEGIN:DAYLIGHT
TZOFFSETFROM:+0100
TZOFFSETTO:+0200
TZNAME:CEST
DTSTART:20250330T010000
END:DAYLIGHT
BEGIN:STANDARD
TZOFFSETFROM:+0200
TZOFFSETTO:+0100
TZNAME:CET
DTSTART:20251026T010000
END:STANDARD
BEGIN:DAYLIGHT
TZOFFSETFROM:+0100
TZOFFSETTO:+0200
TZNAME:CEST
DTSTART:20260329T010000
END:DAYLIGHT
BEGIN:STANDARD
TZOFFSETFROM:+0200
TZOFFSETTO:+0100
TZNAME:CET
DTSTART:20261025T010000
END:STANDARD
END:VTIMEZONE
BEGIN:VEVENT
DTSTART;TZID=Europe/Berlin:20251115T080000
DTEND;TZID=Europe/Berlin:20251115T130000
DTSTAMP:20260422T084430
CREATED:20240120T175822Z
LAST-MODIFIED:20250619T150327Z
UID:1971-1763193600-1763211600@neusser-angelfischer.de
SUMMARY:Arbeitsdienst im November
DESCRIPTION:die letzte Chance eurer Arbeitszeitkonto auszugleichen oder mit Eurem Einsatz etwas Gutes zu tun. \n\n\n\nGeplant sind Restarbeiten\, Baum und Gehölzschnitt sowie Reinigungsarbeiten.
URL:https://neusser-angelfischer.de/event/arbeitsdienst-november/
LOCATION:Broichsee\, Broicherseite\, Kaarst\, 41564
CATEGORIES:Arbeitsdienste
ATTACH;FMTTYPE=image/png:https://neusser-angelfischer.de/wp-content/uploads/2024/01/Arbeitseinsatz.png
ORGANIZER;CN="Verein Neusser Angelfischer 1922/51 e.V.":MAILTO:1Vorsitzender@Neusser-Angelfischer.de
END:VEVENT
BEGIN:VEVENT
DTSTART;TZID=Europe/Berlin:20251026T064500
DTEND;TZID=Europe/Berlin:20251026T113000
DTSTAMP:20260422T084430
CREATED:20240120T182709Z
LAST-MODIFIED:20250619T151045Z
UID:1986-1761461100-1761478200@neusser-angelfischer.de
SUMMARY:Vereinsangeln im Oktober
DESCRIPTION:Der Jahresabschluss mit den Vereinskollegen. \n\n\n\nTreffpunkt: “Fähre” um 06:45Uhr
URL:https://neusser-angelfischer.de/event/vereinsangeln-im-oktober/
LOCATION:Rhein – Langst-Kierst\, Zur Rheinfähre 17\, Meerbusch\, NRW\, 40668
CATEGORIES:Angeltermine
ATTACH;FMTTYPE=image/png:https://neusser-angelfischer.de/wp-content/uploads/2024/01/Pose_001.png
END:VEVENT
BEGIN:VEVENT
DTSTART;TZID=Europe/Berlin:20251011T080000
DTEND;TZID=Europe/Berlin:20251011T130000
DTSTAMP:20260422T084430
CREATED:20250619T150535Z
LAST-MODIFIED:20250619T151231Z
UID:2786-1760169600-1760187600@neusser-angelfischer.de
SUMMARY:Arbeitsdienst im Oktober
DESCRIPTION:Baumschnitt / Gehölzschnitt / Rohdungsmaßnahmen
URL:https://neusser-angelfischer.de/event/arbeitsdienst-im-oktober/
LOCATION:Broichsee\, Broicherseite\, Kaarst\, 41564
ATTACH;FMTTYPE=image/jpeg:https://neusser-angelfischer.de/wp-content/uploads/2024/01/Baumschnitt.jpg
ORGANIZER;CN="Verein Neusser Angelfischer 1922/51 e.V.":MAILTO:1Vorsitzender@Neusser-Angelfischer.de
END:VEVENT
BEGIN:VEVENT
DTSTART;TZID=Europe/Berlin:20250920T170000
DTEND;TZID=Europe/Berlin:20250921T080000
DTSTAMP:20260422T084430
CREATED:20240120T182727Z
LAST-MODIFIED:20250619T145921Z
UID:1984-1758387600-1758441600@neusser-angelfischer.de
SUMMARY:Vereinsangeln im September
DESCRIPTION:Nachtangeln
URL:https://neusser-angelfischer.de/event/vereinsangeln-im-september/
LOCATION:Broichsee\, Broicherseite\, Kaarst\, 41564
CATEGORIES:Angeltermine
ATTACH;FMTTYPE=image/jpeg:https://neusser-angelfischer.de/wp-content/uploads/2024/01/Nachtangel-.jpg
ORGANIZER;CN="Verein Neusser Angelfischer 1922/51 e.V.":MAILTO:1Vorsitzender@Neusser-Angelfischer.de
END:VEVENT
BEGIN:VEVENT
DTSTART;TZID=Europe/Berlin:20250920T080000
DTEND;TZID=Europe/Berlin:20250920T130000
DTSTAMP:20260422T084430
CREATED:20240120T175121Z
LAST-MODIFIED:20250619T145000Z
UID:1969-1758355200-1758373200@neusser-angelfischer.de
SUMMARY:Arbeitsdienst im September
DESCRIPTION:für heute sind Baum- und nötige Freischschnitt- Arbeiten geplant.
URL:https://neusser-angelfischer.de/event/arbeitsdienst-september/
LOCATION:Broichsee\, Broicherseite\, Kaarst\, 41564
CATEGORIES:Arbeitsdienste
ATTACH;FMTTYPE=image/jpeg:https://neusser-angelfischer.de/wp-content/uploads/2024/01/gruenschnitt.jpg
ORGANIZER;CN="Verein Neusser Angelfischer 1922/51 e.V.":MAILTO:1Vorsitzender@Neusser-Angelfischer.de
END:VEVENT
BEGIN:VEVENT
DTSTART;TZID=Europe/Berlin:20250913T140000
DTEND;TZID=Europe/Berlin:20250913T140000
DTSTAMP:20260422T084430
CREATED:20240827T190000Z
LAST-MODIFIED:20250619T154011Z
UID:2437-1757772000-1757772000@neusser-angelfischer.de
SUMMARY:Sommerfest (Veranstaltung in Prüfung)
DESCRIPTION:PARTY\, PARTY\, PARTY
URL:https://neusser-angelfischer.de/event/sommerfest/
LOCATION:Broichsee\, Broicherseite\, Kaarst\, 41564
ATTACH;FMTTYPE=image/jpeg:https://neusser-angelfischer.de/wp-content/uploads/2024/05/Party.jpg
ORGANIZER;CN="Verein Neusser Angelfischer 1922/51 e.V.":MAILTO:1Vorsitzender@Neusser-Angelfischer.de
END:VEVENT
BEGIN:VEVENT
DTSTART;TZID=Europe/Berlin:20250712T080000
DTEND;TZID=Europe/Berlin:20250712T130000
DTSTAMP:20260422T084430
CREATED:20250619T144642Z
LAST-MODIFIED:20250619T144643Z
UID:2775-1752307200-1752325200@neusser-angelfischer.de
SUMMARY:Arbeitsdienst im Juli
DESCRIPTION:Spezifische Arbeiten sind derzeit noch nicht definiert. \n\n\n\nAllgemeine sind bekannt und werden regelmässig am Gewässer ausgeführt.
URL:https://neusser-angelfischer.de/event/arbeitsdienst-im-juli/
LOCATION:Broichsee\, Broicherseite\, Kaarst\, 41564
ATTACH;FMTTYPE=image/jpeg:https://neusser-angelfischer.de/wp-content/uploads/2024/01/Arbeitseinsatz_01.jpg
ORGANIZER;CN="Verein Neusser Angelfischer 1922/51 e.V.":MAILTO:1Vorsitzender@Neusser-Angelfischer.de
END:VEVENT
BEGIN:VEVENT
DTSTART;TZID=Europe/Berlin:20250705T064500
DTEND;TZID=Europe/Berlin:20250705T110000
DTSTAMP:20260422T084430
CREATED:20250619T143207Z
LAST-MODIFIED:20250619T143342Z
UID:2771-1751697900-1751713200@neusser-angelfischer.de
SUMMARY:Vereinsangeln im Juli
DESCRIPTION:KÖNIGSANGELN \n\n\n\nFange! …und werde der König. (Rheinfähre)Treffen ist für 06:45Uhr geplant
URL:https://neusser-angelfischer.de/event/vereinsangeln-im-juli/
LOCATION:Rhein – Neuss\, Neus-Uedesheim\, 41468
CATEGORIES:Angeltermine
ATTACH;FMTTYPE=image/jpeg:https://neusser-angelfischer.de/wp-content/uploads/2024/01/Flussmeisterschaft.jpg
ORGANIZER;CN="Verein Neusser Angelfischer 1922/51 e.V.":MAILTO:1Vorsitzender@Neusser-Angelfischer.de
END:VEVENT
BEGIN:VEVENT
DTSTART;TZID=Europe/Berlin:20250621T080000
DTEND;TZID=Europe/Berlin:20250621T130000
DTSTAMP:20260422T084430
CREATED:20240120T174830Z
LAST-MODIFIED:20250619T143529Z
UID:1967-1750492800-1750510800@neusser-angelfischer.de
SUMMARY:Arbeitsdienst im Juni
DESCRIPTION:Für unseren Sommertermin sind Säuberungsarbeiten und die Ausbesserung von Angelplätzen geplant.
URL:https://neusser-angelfischer.de/event/arbeitsdienst-juni/
LOCATION:Broichsee\, Broicherseite\, Kaarst\, 41564
CATEGORIES:Arbeitsdienste
ATTACH;FMTTYPE=image/jpeg:https://neusser-angelfischer.de/wp-content/uploads/2024/01/Arbeitseinsatz_01.jpg
ORGANIZER;CN="Verein Neusser Angelfischer 1922/51 e.V.":MAILTO:1Vorsitzender@Neusser-Angelfischer.de
END:VEVENT
BEGIN:VEVENT
DTSTART;TZID=Europe/Berlin:20250615T063000
DTEND;TZID=Europe/Berlin:20250615T110000
DTSTAMP:20260422T084430
CREATED:20250519T185722Z
LAST-MODIFIED:20250519T185837Z
UID:2345-1749969000-1749985200@neusser-angelfischer.de
SUMMARY:Vereinsangeln im Juni
DESCRIPTION:Dieses mal treffen wir uns an der Erft\, LOS 46 \n\n\n\nDetails:
URL:https://neusser-angelfischer.de/event/vereinsangeln-im-juni/
LOCATION:Erft LOS 46\, Hahnenweg\, Neuss\, NRW\, 41466
CATEGORIES:Angeltermine
ATTACH;FMTTYPE=image/jpeg:https://neusser-angelfischer.de/wp-content/uploads/2018/01/Los-47-9.jpg
ORGANIZER;CN="Verein Neusser Angelfischer 1922/51 e.V.":MAILTO:1Vorsitzender@Neusser-Angelfischer.de
END:VEVENT
BEGIN:VEVENT
DTSTART;TZID=Europe/Berlin:20250517T080000
DTEND;TZID=Europe/Berlin:20250517T130000
DTSTAMP:20260422T084430
CREATED:20250116T190144Z
LAST-MODIFIED:20250116T190630Z
UID:2603-1747468800-1747486800@neusser-angelfischer.de
SUMMARY:Arbeitsdienst im Mai
DESCRIPTION:Ziel ist es: das Schon / Leichgebiet durch neue Bojen zu kennzeichnen.Denkt bitte aus Sicherheitsgründen an euren Schwimmwesten!
URL:https://neusser-angelfischer.de/event/arbeitsdienst-im-mai/
LOCATION:Broichsee\, Broicherseite\, Kaarst\, 41564
CATEGORIES:Arbeitsdienste
ATTACH;FMTTYPE=image/jpeg:https://neusser-angelfischer.de/wp-content/uploads/2025/01/Bojen.jpg
ORGANIZER;CN="Verein Neusser Angelfischer 1922/51 e.V.":MAILTO:1Vorsitzender@Neusser-Angelfischer.de
END:VEVENT
BEGIN:VEVENT
DTSTART;TZID=Europe/Berlin:20250511T063000
DTEND;TZID=Europe/Berlin:20250511T110000
DTSTAMP:20260422T084430
CREATED:20250502T191022Z
LAST-MODIFIED:20250502T191721Z
UID:1980-1746945000-1746961200@neusser-angelfischer.de
SUMMARY:Vereinsangeln im Mai
DESCRIPTION:unser Vereinsangeln am Fluss. \n\n\n\nLangst-Kierst \n\n\n\nTreffpunkt: “Fähre” um 06:45Uhr
URL:https://neusser-angelfischer.de/event/vereinsangeln-im-mai/
LOCATION:Rhein – Langst-Kierst\, Zur Rheinfähre 17\, Meerbusch\, NRW\, 40668
CATEGORIES:Angeltermine
ATTACH;FMTTYPE=image/jpeg:https://neusser-angelfischer.de/wp-content/uploads/2024/01/Flussmeisterschaft.jpg
ORGANIZER;CN="Verein Neusser Angelfischer 1922/51 e.V.":MAILTO:1Vorsitzender@Neusser-Angelfischer.de
END:VEVENT
BEGIN:VEVENT
DTSTART;TZID=Europe/Berlin:20250426T080000
DTEND;TZID=Europe/Berlin:20250426T130000
DTSTAMP:20260422T084430
CREATED:20240120T173734Z
LAST-MODIFIED:20250116T185449Z
UID:1962-1745654400-1745672400@neusser-angelfischer.de
SUMMARY:Arbeitsdienst im April
DESCRIPTION:für heute stehen Reinigungsarbeiten und je nach Wetterlage Restarbeiten und / oder die Fertigstellung der Bootsstegsverlegung an.
URL:https://neusser-angelfischer.de/event/arbeitsdienst-april/
LOCATION:Broichsee\, Broicherseite\, Kaarst\, 41564
CATEGORIES:Arbeitsdienste
ATTACH;FMTTYPE=image/png:https://neusser-angelfischer.de/wp-content/uploads/2024/01/Arbeitseinsatz.png
ORGANIZER;CN="Verein Neusser Angelfischer 1922/51 e.V.":MAILTO:1Vorsitzender@Neusser-Angelfischer.de
END:VEVENT
BEGIN:VEVENT
DTSTART;TZID=Europe/Berlin:20250323T064500
DTEND;TZID=Europe/Berlin:20250323T113000
DTSTAMP:20260422T084430
CREATED:20250117T202318Z
LAST-MODIFIED:20250117T202320Z
UID:2617-1742712300-1742729400@neusser-angelfischer.de
SUMMARY:Vereinsangeln im März
DESCRIPTION:dieses Jahr einen Monat früher gemeinsam am Vereinsgewässer. \n\n\n\nDer Start mit den Vereinskameraden in ein fischreiches Jahr.
URL:https://neusser-angelfischer.de/event/vereinsangeln-im-maerz/
LOCATION:Broichsee\, Broicherseite\, Kaarst\, 41564
ATTACH;FMTTYPE=image/jpeg:https://neusser-angelfischer.de/wp-content/uploads/2024/04/Untitled-design.jpg
ORGANIZER;CN="Verein Neusser Angelfischer 1922/51 e.V.":MAILTO:1Vorsitzender@Neusser-Angelfischer.de
END:VEVENT
BEGIN:VEVENT
DTSTART;TZID=Europe/Berlin:20250315T080000
DTEND;TZID=Europe/Berlin:20250315T130000
DTSTAMP:20260422T084430
CREATED:20240120T171824Z
LAST-MODIFIED:20250116T185107Z
UID:1955-1742025600-1742043600@neusser-angelfischer.de
SUMMARY:Arbeitsdienst im März
DESCRIPTION:dieses Treffen dient dazu unsere Seen für den Frühling fit zu machen und dazu allgemeine Säuberungsarbeiten durchzuführen. \n\n\n\nDes Weiteren sind Vorarbeiten am Metall / Betonsockel für die Bootestegverlegung und Vorarbeiten für die neue Bojen-Kennzeichnung im Schongebiet geplant.
URL:https://neusser-angelfischer.de/event/arbeitsdienst-maerz/
LOCATION:Broichsee\, Broicherseite\, Kaarst\, 41564
CATEGORIES:Arbeitsdienste
ATTACH;FMTTYPE=image/jpeg:https://neusser-angelfischer.de/wp-content/uploads/2024/01/Arbeitseinsatz_01.jpg
ORGANIZER;CN="Verein Neusser Angelfischer 1922/51 e.V.":MAILTO:1Vorsitzender@Neusser-Angelfischer.de
END:VEVENT
BEGIN:VEVENT
DTSTART;TZID=Europe/Berlin:20250309T110000
DTEND;TZID=Europe/Berlin:20250309T110000
DTSTAMP:20260422T084430
CREATED:20231230T143524Z
LAST-MODIFIED:20250116T184507Z
UID:1802-1741518000-1741518000@neusser-angelfischer.de
SUMMARY:Jahreshauptversammlung
DESCRIPTION:Eine vorab Info habt ihr bereits erhalten. Eine schriftliche Einladung wird Euch zusätzlich nochmals per Post zugestellt. \n\n\n\nDie nächste Jahreshauptversammlung findet am Sonntag\, den 09.März 2025\, um 11Uhr statt. \n\n\n\nUm rege Teilnahme wird gebeten. Bitte beachtet\, dass der Broichsee für das Wochenende gesperrt wird.
URL:https://neusser-angelfischer.de/event/1802/
LOCATION:Bürgerhaus Reuterhof\, Rheinuferstraße 18\, Neuss-Grimlinghausen\, 41468\, Deutschland
CATEGORIES:Versammlung
ATTACH;FMTTYPE=image/jpeg:https://neusser-angelfischer.de/wp-content/uploads/2023/12/microphone-704255_1280.jpg
ORGANIZER;CN="Verein Neusser Angelfischer 1922/51 e.V.":MAILTO:1Vorsitzender@Neusser-Angelfischer.de
END:VEVENT
BEGIN:VEVENT
DTSTART;TZID=Europe/Berlin:20250221T180000
DTEND;TZID=Europe/Berlin:20250221T180000
DTSTAMP:20260422T084430
CREATED:20240113T143518Z
LAST-MODIFIED:20250205T202613Z
UID:1886-1740160800-1740160800@neusser-angelfischer.de
SUMMARY:Vorstandssitzung
DESCRIPTION:Treffen des Gesamtvorstandes. \n\n\n\nTagesordnung: \n\n\n\n\nVorbereitung der Jahreshauptversammlung\n\n\n\nAllgemeine Absprachen\n\n\n\nVerschiedenes
URL:https://neusser-angelfischer.de/event/vorstandssitzung/
LOCATION:Gaststätte des Kleingartenvereins „Deutsche Scholle“\, Am Kivitzbusch 32\, Neuss\, 41462
CATEGORIES:Vorstandssitzung
ATTACH;FMTTYPE=image/jpeg:https://neusser-angelfischer.de/wp-content/uploads/2024/01/Vorstand_01.jpeg
ORGANIZER;CN="Verein Neusser Angelfischer 1922/51 e.V.":MAILTO:1Vorsitzender@Neusser-Angelfischer.de
END:VEVENT
BEGIN:VEVENT
DTSTART;TZID=Europe/Berlin:20250215T080000
DTEND;TZID=Europe/Berlin:20250215T180000
DTSTAMP:20260422T084430
CREATED:20240120T170722Z
LAST-MODIFIED:20250116T184712Z
UID:1951-1739606400-1739642400@neusser-angelfischer.de
SUMMARY:Arbeitsdienst im Februar
DESCRIPTION:Heute wird ein doppelter Termin angeboten. Ihr habt die Möglichkeit an einem oder auch an beiden Terminen dabei zu sein.  \n\n\n\nDer erste Termin findet von 8:00 – 13:00 Uhr und der zweite von 13:00 – 18:00 Uhr statt. \n\n\n\nGeplant sind umfangreiche Strauch- und Gehölzschnitt- Arbeiten\, sowie die Kontrolle der Angelplätze auf Verkehrssicherheit. \n\n\n\nCa. 14 Tage vor dem Termin wird eine Umfrage zur jeweiligen Teilnahme gestartet. Bitte nehmt daran teil\, um eine Planung zu ermöglichen. DANKE!
URL:https://neusser-angelfischer.de/event/arbeitsdienst-febnruar/
LOCATION:Broichsee\, Broicherseite\, Kaarst\, 41564
CATEGORIES:Arbeitsdienste
ATTACH;FMTTYPE=image/jpeg:https://neusser-angelfischer.de/wp-content/uploads/2024/01/Baumschnitt.jpg
ORGANIZER;CN="Verein Neusser Angelfischer 1922/51 e.V.":MAILTO:1Vorsitzender@Neusser-Angelfischer.de
END:VEVENT
BEGIN:VEVENT
DTSTART;TZID=Europe/Berlin:20250125T080000
DTEND;TZID=Europe/Berlin:20250125T130000
DTSTAMP:20260422T084430
CREATED:20240117T212303Z
LAST-MODIFIED:20250116T184342Z
UID:1926-1737792000-1737810000@neusser-angelfischer.de
SUMMARY:Arbeitsdienst Januar
DESCRIPTION:die erste Chance an unserem Gewässer tätig zu werden und etwas gutes für die Natur\, den Verein und sich selbst zu tun.  \n\n\n\nAufgaben: Baumpflege und Zaunreparaturen
URL:https://neusser-angelfischer.de/event/arbeitsdienst/
LOCATION:Broichsee\, Broicherseite\, Kaarst\, 41564
CATEGORIES:Arbeitsdienste
ATTACH;FMTTYPE=image/jpeg:https://neusser-angelfischer.de/wp-content/uploads/2024/01/Broichsee_Tor1.jpg
ORGANIZER;CN="Verein Neusser Angelfischer 1922/51 e.V.":MAILTO:1Vorsitzender@Neusser-Angelfischer.de
END:VEVENT
BEGIN:VEVENT
DTSTART;TZID=Europe/Berlin:20240824T063000
DTEND;TZID=Europe/Berlin:20240824T063000
DTSTAMP:20260422T084430
CREATED:20240120T182743Z
LAST-MODIFIED:20240420T150842Z
UID:1982-1724481000-1724481000@neusser-angelfischer.de
SUMMARY:Vereinsangeln im August
DESCRIPTION:Unsere alljähriges Königsangeln! \n\n\n\nGenauere Informationen folgen noch….
URL:https://neusser-angelfischer.de/event/vereinsangeln-im-august/
LOCATION:Rhein – Neuss\, Neus-Uedesheim\, 41468
CATEGORIES:Angeltermine
ORGANIZER;CN="Verein Neusser Angelfischer 1922/51 e.V.":MAILTO:1Vorsitzender@Neusser-Angelfischer.de
END:VEVENT
BEGIN:VEVENT
DTSTART;TZID=Europe/Berlin:20240414T063000
DTEND;TZID=Europe/Berlin:20240414T063000
DTSTAMP:20260422T084430
CREATED:20240120T182939Z
LAST-MODIFIED:20240420T151009Z
UID:1978-1713076200-1713076200@neusser-angelfischer.de
SUMMARY:Vereinsangeln im April
DESCRIPTION:der Start ins Jahr mit den Vereinskollegen.
URL:https://neusser-angelfischer.de/event/vereinsangeln-im-april/
LOCATION:Broichsee\, Broicherseite\, Kaarst\, 41564
CATEGORIES:Angeltermine
ATTACH;FMTTYPE=image/png:https://neusser-angelfischer.de/wp-content/uploads/2024/01/Pose_001.png
ORGANIZER;CN="Verein Neusser Angelfischer 1922/51 e.V.":MAILTO:1Vorsitzender@Neusser-Angelfischer.de
END:VEVENT
END:VCALENDAR